BEGIN:VCALENDAR
VERSION:2.0
PRODID:-//Vizserve Team Portal - ECPv6.15.13//NONSGML v1.0//EN
CALSCALE:GREGORIAN
METHOD:PUBLISH
X-WR-CALNAME:Vizserve Team Portal
X-ORIGINAL-URL:https://www.team.vizserve.com
X-WR-CALDESC:Events for Vizserve Team Portal
REFRESH-INTERVAL;VALUE=DURATION:PT1H
X-Robots-Tag:noindex
X-PUBLISHED-TTL:PT1H
BEGIN:VTIMEZONE
TZID:Asia/Manila
BEGIN:STANDARD
TZOFFSETFROM:+0800
TZOFFSETTO:+0800
TZNAME:PST
DTSTART:20250101T000000
END:STANDARD
END:VTIMEZONE
BEGIN:VEVENT
DTSTART;VALUE=DATE:20260210
DTEND;VALUE=DATE:20260426
DTSTAMP:20260421T021402
CREATED:20260105T041731Z
LAST-MODIFIED:20260105T045010Z
UID:10000170-1770681600-1777161599@www.team.vizserve.com
SUMMARY:HFSE QB Online to ERPNext Migration
DESCRIPTION:
URL:https://www.team.vizserve.com/event/hfse-qb-online-to-erpnext-migration/
CATEGORIES:HFSE IS,HFSE YS,VizBooks,VizBytes
END:VEVENT
BEGIN:VEVENT
DTSTART;VALUE=DATE:20260303
DTEND;VALUE=DATE:20260426
DTSTAMP:20260421T021402
CREATED:20260105T041420Z
LAST-MODIFIED:20260105T041452Z
UID:10000169-1772496000-1777161599@www.team.vizserve.com
SUMMARY:Automation of Payment Processing
DESCRIPTION:
URL:https://www.team.vizserve.com/event/hfse-automation-of-payment-processing/
CATEGORIES:HFSE IS,VizBytes
END:VEVENT
BEGIN:VEVENT
DTSTART;VALUE=DATE:20260317
DTEND;VALUE=DATE:20260426
DTSTAMP:20260421T021402
CREATED:20260105T042039Z
LAST-MODIFIED:20260105T042047Z
UID:10000172-1773705600-1777161599@www.team.vizserve.com
SUMMARY:HFSE Parent Portal Updating (Online Grading Module)
DESCRIPTION:
URL:https://www.team.vizserve.com/event/hfse-parent-portal-updating-online-grading-module/
CATEGORIES:HFSE IS,HFSE YS,VizBytes
END:VEVENT
BEGIN:VEVENT
DTSTART;VALUE=DATE:20260421
DTEND;VALUE=DATE:20260422
DTSTAMP:20260421T021402
CREATED:20260105T063700Z
LAST-MODIFIED:20260105T085252Z
UID:10001002-1776729600-1776815999@www.team.vizserve.com
SUMMARY:Teachers' and Ants' Day Celebration Collaterals Draft
DESCRIPTION:
URL:https://www.team.vizserve.com/event/teachers-and-ants-day-celebration-collaterals-draft/
CATEGORIES:HFSE IS,VizMedia
END:VEVENT
BEGIN:VEVENT
DTSTART;VALUE=DATE:20260421
DTEND;VALUE=DATE:20260425
DTSTAMP:20260421T021402
CREATED:20260106T063814Z
LAST-MODIFIED:20260129T005044Z
UID:10005148-1776729600-1777075199@www.team.vizserve.com
SUMMARY:Company Process and Policy (Creation and Review)
DESCRIPTION:Create\, review and update all SOPs\, refresh HR policies\, document improvements. \nFacilitated by Business Manager and Team Manager
URL:https://www.team.vizserve.com/event/company-process-and-policy-creation-and-review/2026-04-21/
CATEGORIES:Management
END:VEVENT
BEGIN:VEVENT
DTSTART;VALUE=DATE:20260421
DTEND;VALUE=DATE:20260425
DTSTAMP:20260421T021402
CREATED:20260106T064120Z
LAST-MODIFIED:20260129T005138Z
UID:10005207-1776729600-1777075199@www.team.vizserve.com
SUMMARY:Department Process and Guidelines (Creation and Review)
DESCRIPTION:Create\, review and update all department SOPs\, Guidelines and document improvements. \nFacilitated by department members.
URL:https://www.team.vizserve.com/event/department-process-and-guidelines-creation-and-review/2026-04-21/
CATEGORIES:Company Wide
END:VEVENT
END:VCALENDAR